BEGIN:VCALENDAR
VERSION:2.0
PRODID:calendify.com
BEGIN:VEVENT
UID:calendify-session-QnkOqA5bOo0
DTSTART:20200201T110000Z
SEQUENCE:0
TRANSP:OPAQUE
DTEND:20200201T115000Z
URL:https://calendify.com/session/QnkOqA5bOo0
LOCATION:UA2.220 (Guillissen)
SUMMARY:DEBATE: Does Careful Inventory of Licensing Bill of Materials Have 
 Real Impact on FOSS License Compliance?
CLASS:PUBLIC
DESCRIPTION:https://calendify.com/session/QnkOqA5bOo0
DTSTAMP:20260424T000009Z
CREATED:20200513T234730Z
LAST-MODIFIED:20210426T093308Z
END:VEVENT
END:VCALENDAR