BEGIN:VCALENDAR
VERSION:2.0
PRODID:calendify.com
BEGIN:VEVENT
UID:calendify-session-QnkOqA8nOo0
DTSTART:20200201T123000Z
SEQUENCE:0
TRANSP:OPAQUE
DTEND:20200201T125000Z
URL:https://calendify.com/session/QnkOqA8nOo0
LOCATION:AW1.121
SUMMARY:Going Meta with Elixir's Macros
CLASS:PUBLIC
DESCRIPTION:https://calendify.com/session/QnkOqA8nOo0
DTSTAMP:20260422T222745Z
CREATED:20200513T234730Z
LAST-MODIFIED:20210426T093308Z
END:VEVENT
END:VCALENDAR