BEGIN:VCALENDAR
VERSION:2.0
PRODID:calendify.com
BEGIN:VEVENT
UID:calendify-session-QnkOqAEVOo0
DTSTART:20190531T203000Z
SEQUENCE:0
TRANSP:OPAQUE
DTEND:20190531T223000Z
URL:https://calendify.com/session/QnkOqAEVOo0
LOCATION:Lounge
SUMMARY:Schallwelten
CLASS:PUBLIC
DESCRIPTION:https://calendify.com/session/QnkOqAEVOo0
DTSTAMP:20260422T023235Z
CREATED:20200509T115111Z
LAST-MODIFIED:20200509T115111Z
END:VEVENT
END:VCALENDAR