BEGIN:VCALENDAR
VERSION:2.0
PRODID:calendify.com
BEGIN:VEVENT
UID:calendify-session-QnkOqAGQOo0
DTSTART:20200202T095000Z
SEQUENCE:0
TRANSP:OPAQUE
DTEND:20200202T101000Z
URL:https://calendify.com/session/QnkOqAGQOo0
LOCATION:UD2.218A
SUMMARY:Tarantool Cartridge
CLASS:PUBLIC
DESCRIPTION:https://calendify.com/session/QnkOqAGQOo0
DTSTAMP:20260423T180520Z
CREATED:20200513T234735Z
LAST-MODIFIED:20210426T093311Z
END:VEVENT
END:VCALENDAR