BEGIN:VCALENDAR
VERSION:2.0
PRODID:calendify.com
BEGIN:VEVENT
UID:calendify-session-QnkOqAVVOo0
DTSTART:20200202T090000Z
SEQUENCE:0
TRANSP:OPAQUE
DTEND:20200202T093500Z
URL:https://calendify.com/session/QnkOqAVVOo0
LOCATION:K.4.601
SUMMARY:M³: Taking Microkernels to the Next Level
CLASS:PUBLIC
DESCRIPTION:https://calendify.com/session/QnkOqAVVOo0
DTSTAMP:20260420T112229Z
CREATED:20200513T234735Z
LAST-MODIFIED:20210426T093310Z
END:VEVENT
END:VCALENDAR