BEGIN:VCALENDAR
VERSION:2.0
PRODID:calendify.com
BEGIN:VEVENT
UID:calendify-session-QnkOqAmAOo0
DTSTART:20200202T120500Z
SEQUENCE:0
TRANSP:OPAQUE
DTEND:20200202T124500Z
URL:https://calendify.com/session/QnkOqAmAOo0
LOCATION:UB4.136
SUMMARY:Progressive Delivery
CLASS:PUBLIC
DESCRIPTION:https://calendify.com/session/QnkOqAmAOo0
DTSTAMP:20260421T151837Z
CREATED:20200513T234735Z
LAST-MODIFIED:20210426T093310Z
END:VEVENT
END:VCALENDAR