BEGIN:VCALENDAR
VERSION:2.0
PRODID:calendify.com
BEGIN:VEVENT
UID:calendify-session-QnkOqAnxOo0
DTSTART:20180512T140000Z
SEQUENCE:0
TRANSP:OPAQUE
DTEND:20180512T150000Z
URL:https://calendify.com/session/QnkOqAnxOo0
LOCATION:HfG_Studio
SUMMARY:kinX: keyboard hacking
CLASS:PUBLIC
DESCRIPTION:https://calendify.com/session/QnkOqAnxOo0
DTSTAMP:20260422T015625Z
CREATED:20200513T011828Z
LAST-MODIFIED:20200513T011828Z
END:VEVENT
END:VCALENDAR