BEGIN:VCALENDAR
VERSION:2.0
PRODID:calendify.com
BEGIN:VEVENT
UID:calendify-session-QnkOqAyxOo0
DTSTART:20180512T233000Z
SEQUENCE:0
TRANSP:OPAQUE
DTEND:20180513T043000Z
URL:https://calendify.com/session/QnkOqAyxOo0
LOCATION:Lounge
SUMMARY:Project Poltergeist
CLASS:PUBLIC
DESCRIPTION:https://calendify.com/session/QnkOqAyxOo0
DTSTAMP:20260422T032846Z
CREATED:20200513T011828Z
LAST-MODIFIED:20200513T011828Z
END:VEVENT
END:VCALENDAR