BEGIN:VCALENDAR
VERSION:2.0
PRODID:calendify.com
BEGIN:VEVENT
UID:calendify-session-QnkOqAzVOo0
DTSTART:20200202T084000Z
SEQUENCE:0
TRANSP:OPAQUE
DTEND:20200202T085000Z
URL:https://calendify.com/session/QnkOqAzVOo0
LOCATION:UA2.220 (Guillissen)
SUMMARY:Librecast: Privacy and Decentralization with Multicast
CLASS:PUBLIC
DESCRIPTION:https://calendify.com/session/QnkOqAzVOo0
DTSTAMP:20260423T230805Z
CREATED:20200513T234735Z
LAST-MODIFIED:20210426T093310Z
END:VEVENT
END:VCALENDAR