BEGIN:VCALENDAR
VERSION:2.0
PRODID:calendify.com
BEGIN:VEVENT
UID:calendify-session-QnkOqEGLOo0
DTSTART:20241227T180000Z
SEQUENCE:0
TRANSP:OPAQUE
DTEND:20241227T210000Z
URL:https://calendify.com/session/QnkOqEGLOo0
LOCATION:Saal A - Programmierplätze
SUMMARY:Programmieren in Minecraft
CLASS:PUBLIC
DESCRIPTION:https://calendify.com/session/QnkOqEGLOo0
DTSTAMP:20260424T040427Z
CREATED:20241227T141500Z
LAST-MODIFIED:20250101T225002Z
END:VEVENT
END:VCALENDAR