BEGIN:VCALENDAR
VERSION:2.0
PRODID:calendify.com
BEGIN:VEVENT
UID:calendify-session-QnkOqEdxOo0
DTSTART:20240922T100000Z
SEQUENCE:0
TRANSP:OPAQUE
DTEND:20240922T110000Z
URL:https://calendify.com/session/QnkOqEdxOo0
LOCATION:Henny Brenner Saal
SUMMARY:Reboot Politics - Live Podcast
CLASS:PUBLIC
DESCRIPTION:https://calendify.com/session/QnkOqEdxOo0
DTSTAMP:20260421T011424Z
CREATED:20241208T220338Z
LAST-MODIFIED:20241208T220338Z
END:VEVENT
END:VCALENDAR