BEGIN:VCALENDAR
VERSION:2.0
PRODID:calendify.com
BEGIN:VEVENT
UID:calendify-session-QnkOqEvxOo0
DTSTART:20241227T134500Z
SEQUENCE:0
TRANSP:OPAQUE
DTEND:20241227T140000Z
URL:https://calendify.com/session/QnkOqEvxOo0
LOCATION:SoS Saal D
SUMMARY:Toniebox meet up
CLASS:PUBLIC
DESCRIPTION:https://calendify.com/session/QnkOqEvxOo0
DTSTAMP:20260423T084305Z
CREATED:20241227T141458Z
LAST-MODIFIED:20250101T225002Z
END:VEVENT
END:VCALENDAR