BEGIN:VCALENDAR
VERSION:2.0
PRODID:calendify.com
BEGIN:VEVENT
UID:calendify-session-QnkOqL2d4o0
DTSTART:20220611T081500Z
SEQUENCE:0
TRANSP:OPAQUE
DTEND:20220611T090000Z
URL:https://calendify.com/session/QnkOqL2d4o0
LOCATION:.txt Workshop 1
SUMMARY:Meisterwerke des Skriptwritings
CLASS:PUBLIC
DESCRIPTION:https://calendify.com/session/QnkOqL2d4o0
DTSTAMP:20260419T124557Z
CREATED:20220526T162948Z
LAST-MODIFIED:20220613T235204Z
END:VEVENT
END:VCALENDAR