BEGIN:VCALENDAR
VERSION:2.0
PRODID:calendify.com
BEGIN:VEVENT
UID:calendify-session-QnkOqL3L4o0
DTSTART:20220608T161500Z
SEQUENCE:0
TRANSP:OPAQUE
DTEND:20220608T171500Z
URL:https://calendify.com/session/QnkOqL3L4o0
LOCATION:Stage 4
SUMMARY:THE HUSTLE ROYALE
CLASS:PUBLIC
DESCRIPTION:https://calendify.com/session/QnkOqL3L4o0
DTSTAMP:20260423T135701Z
CREATED:20220526T162944Z
LAST-MODIFIED:20220613T235204Z
END:VEVENT
END:VCALENDAR