BEGIN:VCALENDAR
VERSION:2.0
PRODID:calendify.com
BEGIN:VEVENT
UID:calendify-session-QnkOqLDb4o0
DTSTART:20220205T090000Z
SEQUENCE:0
TRANSP:OPAQUE
DTEND:20220205T100000Z
URL:https://calendify.com/session/QnkOqLDb4o0
LOCATION:D.safety
SUMMARY:Subplot - documenting your criteria for success
CLASS:PUBLIC
DESCRIPTION:https://calendify.com/session/QnkOqLDb4o0
DTSTAMP:20260420T130031Z
CREATED:20220131T160102Z
LAST-MODIFIED:20220206T225003Z
END:VEVENT
END:VCALENDAR