BEGIN:VCALENDAR
VERSION:2.0
PRODID:calendify.com
BEGIN:VEVENT
UID:calendify-session-QnkOqLL04o0
DTSTART:20161227T150000Z
SEQUENCE:0
TRANSP:OPAQUE
DTEND:20161227T153000Z
URL:https://calendify.com/session/QnkOqLL04o0
LOCATION:Saal 1
SUMMARY:Law Enforcement Are Hacking the Planet
CLASS:PUBLIC
DESCRIPTION:https://calendify.com/session/QnkOqLL04o0
DTSTAMP:20260420T211317Z
CREATED:20220415T135302Z
LAST-MODIFIED:20220415T135302Z
END:VEVENT
END:VCALENDAR