BEGIN:VCALENDAR
VERSION:2.0
PRODID:calendify.com
BEGIN:VEVENT
UID:calendify-session-QnkOqLQQ4o0
DTSTART:20220521T120000Z
SEQUENCE:0
TRANSP:OPAQUE
DTEND:20220521T130000Z
URL:https://calendify.com/session/QnkOqLQQ4o0
LOCATION:Medientheater
SUMMARY:Schweißen\, down the rabbit hole
CLASS:PUBLIC
DESCRIPTION:https://calendify.com/session/QnkOqLQQ4o0
DTSTAMP:20260420T203415Z
CREATED:20220502T005752Z
LAST-MODIFIED:20220521T215002Z
END:VEVENT
END:VCALENDAR