BEGIN:VCALENDAR
VERSION:2.0
PRODID:calendify.com
BEGIN:VEVENT
UID:calendify-session-QnkOqLVV4o0
DTSTART:20220722T194000Z
SEQUENCE:0
TRANSP:OPAQUE
DTEND:20220722T203000Z
URL:https://calendify.com/session/QnkOqLVV4o0
LOCATION:Battery 🔋
SUMMARY:Keep Ukraine Connected
CLASS:PUBLIC
DESCRIPTION:https://calendify.com/session/QnkOqLVV4o0
DTSTAMP:20260423T140337Z
CREATED:20220620T212434Z
LAST-MODIFIED:20220726T182703Z
END:VEVENT
END:VCALENDAR