BEGIN:VCALENDAR
VERSION:2.0
PRODID:calendify.com
BEGIN:VEVENT
UID:calendify-session-QnkOqLX74o0
DTSTART:20220415T150000Z
SEQUENCE:0
TRANSP:OPAQUE
DTEND:20220415T154500Z
URL:https://calendify.com/session/QnkOqLX74o0
LOCATION:Mainstream
SUMMARY:Zutaten der (fairen) Elektronik
CLASS:PUBLIC
DESCRIPTION:https://calendify.com/session/QnkOqLX74o0
DTSTAMP:20260422T140652Z
CREATED:20220407T162546Z
LAST-MODIFIED:20220416T215002Z
END:VEVENT
END:VCALENDAR