BEGIN:VCALENDAR
VERSION:2.0
PRODID:calendify.com
BEGIN:VEVENT
UID:calendify-session-QnkOqN8AMo0
DTSTART:20231227T140000Z
SEQUENCE:0
TRANSP:OPAQUE
DTEND:20231227T160000Z
URL:https://calendify.com/session/QnkOqN8AMo0
LOCATION:Round Table [CDC Saal 3]
SUMMARY:Mastering Specter DIY Bitcoin Hardware wallet.
CLASS:PUBLIC
DESCRIPTION:https://calendify.com/session/QnkOqN8AMo0
DTSTAMP:20260423T060147Z
CREATED:20231226T134002Z
LAST-MODIFIED:20240401T142932Z
END:VEVENT
END:VCALENDAR