BEGIN:VCALENDAR
VERSION:2.0
PRODID:calendify.com
BEGIN:VEVENT
UID:calendify-session-QnkOqNBbMo0
DTSTART:20231227T210500Z
SEQUENCE:0
TRANSP:OPAQUE
DTEND:20231227T214500Z
URL:https://calendify.com/session/QnkOqNBbMo0
LOCATION:Saal 1
SUMMARY:Ist die Demokratie noch zu retten? 
CLASS:PUBLIC
DESCRIPTION:https://calendify.com/session/QnkOqNBbMo0
DTSTAMP:20260422T160850Z
CREATED:20231215T204819Z
LAST-MODIFIED:20240401T142932Z
END:VEVENT
END:VCALENDAR