BEGIN:VCALENDAR
VERSION:2.0
PRODID:calendify.com
BEGIN:VEVENT
UID:calendify-session-QnkOqNKLMo0
DTSTART:20230902T100000Z
SEQUENCE:0
TRANSP:OPAQUE
DTEND:20230902T113000Z
URL:https://calendify.com/session/QnkOqNKLMo0
LOCATION:B002 - Höhle der Hohlerde
SUMMARY:Adbusting: Worte als politische Maßnahme
CLASS:PUBLIC
DESCRIPTION:https://calendify.com/session/QnkOqNKLMo0
DTSTAMP:20260422T183829Z
CREATED:20240328T132702Z
LAST-MODIFIED:20240328T132702Z
END:VEVENT
END:VCALENDAR