BEGIN:VCALENDAR
VERSION:2.0
PRODID:calendify.com
BEGIN:VEVENT
UID:calendify-session-QnkOqNRdMo0
DTSTART:20231229T210000Z
SEQUENCE:0
TRANSP:OPAQUE
DTEND:20231229T220000Z
URL:https://calendify.com/session/QnkOqNRdMo0
LOCATION:House
SUMMARY:Game Boy chat
CLASS:PUBLIC
DESCRIPTION:https://calendify.com/session/QnkOqNRdMo0
DTSTAMP:20260423T030947Z
CREATED:20231218T013834Z
LAST-MODIFIED:20240401T142932Z
END:VEVENT
END:VCALENDAR