BEGIN:VCALENDAR
VERSION:2.0
PRODID:calendify.com
BEGIN:VEVENT
UID:calendify-session-QnkOqNVnMo0
DTSTART:20240531T191500Z
SEQUENCE:0
TRANSP:OPAQUE
DTEND:20240531T201500Z
URL:https://calendify.com/session/QnkOqNVnMo0
LOCATION:ZKM Kubus
SUMMARY:Tastaturen - Ein Drama mit 10 Fingern
CLASS:PUBLIC
DESCRIPTION:https://calendify.com/session/QnkOqNVnMo0
DTSTAMP:20260422T095723Z
CREATED:20240531T122738Z
LAST-MODIFIED:20240602T132303Z
END:VEVENT
END:VCALENDAR