BEGIN:VCALENDAR
VERSION:2.0
PRODID:calendify.com
BEGIN:VEVENT
UID:calendify-session-QnkOqNn0Mo0
DTSTART:20231229T213000Z
SEQUENCE:0
TRANSP:OPAQUE
DTEND:20231229T231500Z
URL:https://calendify.com/session/QnkOqNn0Mo0
LOCATION:Stage H
SUMMARY:Movie Night: Hackers
CLASS:PUBLIC
DESCRIPTION:https://calendify.com/session/QnkOqNn0Mo0
DTSTAMP:20260423T044447Z
CREATED:20231221T182739Z
LAST-MODIFIED:20240401T142932Z
END:VEVENT
END:VCALENDAR