BEGIN:VCALENDAR
VERSION:2.0
PRODID:calendify.com
BEGIN:VEVENT
UID:calendify-session-QnkOqNw7Mo0
DTSTART:20231229T193000Z
SEQUENCE:0
TRANSP:OPAQUE
DTEND:20231229T203000Z
URL:https://calendify.com/session/QnkOqNw7Mo0
LOCATION:Saal Zuse
SUMMARY:Gemeinsam gegen rechten Terror! Aber wie?
CLASS:PUBLIC
DESCRIPTION:https://calendify.com/session/QnkOqNw7Mo0
DTSTAMP:20260423T031358Z
CREATED:20231215T204822Z
LAST-MODIFIED:20240401T142932Z
END:VEVENT
END:VCALENDAR