BEGIN:VCALENDAR
VERSION:2.0
PRODID:calendify.com
BEGIN:VEVENT
UID:calendify-session-QnkOqNznMo0
DTSTART:20240601T111500Z
SEQUENCE:0
TRANSP:OPAQUE
DTEND:20240601T121500Z
URL:https://calendify.com/session/QnkOqNznMo0
LOCATION:ZKM Kubus
SUMMARY:bash is a systems programming language
CLASS:PUBLIC
DESCRIPTION:https://calendify.com/session/QnkOqNznMo0
DTSTAMP:20260420T013739Z
CREATED:20240531T122740Z
LAST-MODIFIED:20240602T132303Z
END:VEVENT
END:VCALENDAR