BEGIN:VCALENDAR
VERSION:2.0
PRODID:calendify.com
BEGIN:VEVENT
UID:calendify-session-QnkOqdkV4o0
DTSTART:20241229T140000Z
SEQUENCE:0
TRANSP:OPAQUE
DTEND:20241229T143000Z
URL:https://calendify.com/session/QnkOqdkV4o0
LOCATION:KliMathematik Augsburg\, look in description
SUMMARY:Radikale Therapie: Treffen von Leuten interessiert an nomadischer G
 ruppe. | Radical Therapy: Meetup for people interested in nomadic group.
CLASS:PUBLIC
DESCRIPTION:https://calendify.com/session/QnkOqdkV4o0
DTSTAMP:20260424T024906Z
CREATED:20241227T141515Z
LAST-MODIFIED:20250101T225004Z
END:VEVENT
END:VCALENDAR