BEGIN:VCALENDAR
VERSION:2.0
PRODID:calendify.com
BEGIN:VEVENT
UID:calendify-session-QnkOqe37Oo0
DTSTART:20211228T210000Z
SEQUENCE:0
TRANSP:OPAQUE
DTEND:20211228T223000Z
URL:https://calendify.com/session/QnkOqe37Oo0
LOCATION:Sendezentrum Bühne
SUMMARY:Gala Be Need Inn - Die Podcast Quiz Show
CLASS:PUBLIC
DESCRIPTION:https://calendify.com/session/QnkOqe37Oo0
DTSTAMP:20260420T185148Z
CREATED:20211220T014017Z
LAST-MODIFIED:20211230T225002Z
END:VEVENT
END:VCALENDAR