BEGIN:VCALENDAR
VERSION:2.0
PRODID:calendify.com
BEGIN:VEVENT
UID:calendify-session-QnkOqe60Oo0
DTSTART:20210310T170000Z
SEQUENCE:0
TRANSP:OPAQUE
DTEND:20210310T180000Z
URL:https://calendify.com/session/QnkOqe60Oo0
LOCATION:Spatial Chat / Social 1
SUMMARY:Facilitator Coaching Office Hours
CLASS:PUBLIC
DESCRIPTION:https://calendify.com/session/QnkOqe60Oo0
DTSTAMP:20260420T191238Z
CREATED:20210426T094927Z
LAST-MODIFIED:20210426T094927Z
END:VEVENT
END:VCALENDAR