BEGIN:VCALENDAR
VERSION:2.0
PRODID:calendify.com
BEGIN:VEVENT
UID:calendify-session-QnkOqe7dOo0
DTSTART:20210308T205000Z
SEQUENCE:0
TRANSP:OPAQUE
DTEND:20210308T211500Z
URL:https://calendify.com/session/QnkOqe7dOo0
LOCATION:Zoom Room 4B
SUMMARY:Use AI to inspire your own creativity - Discussion
CLASS:PUBLIC
DESCRIPTION:https://calendify.com/session/QnkOqe7dOo0
DTSTAMP:20260420T174312Z
CREATED:20210426T094926Z
LAST-MODIFIED:20210426T094926Z
END:VEVENT
END:VCALENDAR