BEGIN:VCALENDAR
VERSION:2.0
PRODID:calendify.com
BEGIN:VEVENT
UID:calendify-session-QnkOqeD0Oo0
DTSTART:20210309T170000Z
SEQUENCE:0
TRANSP:OPAQUE
DTEND:20210309T180000Z
URL:https://calendify.com/session/QnkOqeD0Oo0
LOCATION:Youth 1
SUMMARY:Hackathon at the Youth Zone
CLASS:PUBLIC
DESCRIPTION:https://calendify.com/session/QnkOqeD0Oo0
DTSTAMP:20260420T192050Z
CREATED:20210426T094927Z
LAST-MODIFIED:20210426T094927Z
END:VEVENT
END:VCALENDAR