BEGIN:VCALENDAR
VERSION:2.0
PRODID:calendify.com
BEGIN:VEVENT
UID:calendify-session-QnkOqeGLOo0
DTSTART:20220206T090000Z
SEQUENCE:0
TRANSP:OPAQUE
DTEND:20220206T094500Z
URL:https://calendify.com/session/QnkOqeGLOo0
LOCATION:D.graphics
SUMMARY:LVGL: A versatile UI toolkit for MCU & CPU
CLASS:PUBLIC
DESCRIPTION:https://calendify.com/session/QnkOqeGLOo0
DTSTAMP:20260420T092608Z
CREATED:20220120T214606Z
LAST-MODIFIED:20220206T225004Z
END:VEVENT
END:VCALENDAR