BEGIN:VCALENDAR
VERSION:2.0
PRODID:calendify.com
BEGIN:VEVENT
UID:calendify-session-QnkOqeLAOo0
DTSTART:20210316T181500Z
SEQUENCE:0
TRANSP:OPAQUE
DTEND:20210316T191500Z
URL:https://calendify.com/session/QnkOqeLAOo0
LOCATION:Zoom Room 3B
SUMMARY:Welcome to the Automated Society! And now?
CLASS:PUBLIC
DESCRIPTION:https://calendify.com/session/QnkOqeLAOo0
DTSTAMP:20260424T112224Z
CREATED:20210426T094928Z
LAST-MODIFIED:20210426T094928Z
END:VEVENT
END:VCALENDAR