BEGIN:VCALENDAR
VERSION:2.0
PRODID:calendify.com
BEGIN:VEVENT
UID:calendify-session-QnkOqeldOo0
DTSTART:20210308T133000Z
SEQUENCE:0
TRANSP:OPAQUE
URL:https://calendify.com/session/QnkOqeldOo0
LOCATION:Art and Media
SUMMARY:Friendly Advice
CLASS:PUBLIC
DESCRIPTION:https://calendify.com/session/QnkOqeldOo0
DTSTAMP:20260422T153639Z
CREATED:20210426T094927Z
LAST-MODIFIED:20210426T094927Z
END:VEVENT
END:VCALENDAR