BEGIN:VCALENDAR
VERSION:2.0
PRODID:calendify.com
BEGIN:VEVENT
UID:calendify-session-QnkOqepAOo0
DTSTART:20220205T163000Z
SEQUENCE:0
TRANSP:OPAQUE
DTEND:20220205T170000Z
URL:https://calendify.com/session/QnkOqepAOo0
LOCATION:D.libreoffice
SUMMARY:Information Engineering Operations
CLASS:PUBLIC
DESCRIPTION:https://calendify.com/session/QnkOqepAOo0
DTSTAMP:20260422T181259Z
CREATED:20220120T214602Z
LAST-MODIFIED:20220206T225002Z
END:VEVENT
END:VCALENDAR