BEGIN:VCALENDAR
VERSION:2.0
PRODID:calendify.com
BEGIN:VEVENT
UID:calendify-session-QnkOqerxOo0
DTSTART:20210520T113500Z
SEQUENCE:0
TRANSP:OPAQUE
DTEND:20210520T113600Z
URL:https://calendify.com/session/QnkOqerxOo0
LOCATION:Kanal 1
SUMMARY:Deine Minute Pause auf dem Markt
CLASS:PUBLIC
DESCRIPTION:https://calendify.com/session/QnkOqerxOo0
DTSTAMP:20260423T004841Z
CREATED:20210510T145032Z
LAST-MODIFIED:20210524T215002Z
END:VEVENT
END:VCALENDAR