BEGIN:VCALENDAR
VERSION:2.0
PRODID:calendify.com
BEGIN:VEVENT
UID:calendify-session-QnkOqj1dMo0
DTSTART:20210206T123000Z
SEQUENCE:0
TRANSP:OPAQUE
DTEND:20210206T130000Z
URL:https://calendify.com/session/QnkOqj1dMo0
LOCATION:D.distributions
SUMMARY:Two different approaches to building a distribution: OpenHarmony an
 d OpenMandriva
CLASS:PUBLIC
DESCRIPTION:https://calendify.com/session/QnkOqj1dMo0
DTSTAMP:20260419T164850Z
CREATED:20210113T115145Z
LAST-MODIFIED:20210208T224802Z
END:VEVENT
END:VCALENDAR