BEGIN:VCALENDAR
VERSION:2.0
PRODID:calendify.com
BEGIN:VEVENT
UID:calendify-session-QnkOqjBbMo0
DTSTART:20210207T150000Z
SEQUENCE:0
TRANSP:OPAQUE
DTEND:20210207T153000Z
URL:https://calendify.com/session/QnkOqjBbMo0
LOCATION:D.mysql
SUMMARY:Automatic Asynchronous Replication Connection Failover
CLASS:PUBLIC
DESCRIPTION:https://calendify.com/session/QnkOqjBbMo0
DTSTAMP:20260423T174906Z
CREATED:20210111T170320Z
LAST-MODIFIED:20210208T224804Z
END:VEVENT
END:VCALENDAR