BEGIN:VCALENDAR
VERSION:2.0
PRODID:calendify.com
BEGIN:VEVENT
UID:calendify-session-QnkOqjELMo0
DTSTART:20210207T125000Z
SEQUENCE:0
TRANSP:OPAQUE
DTEND:20210207T133000Z
URL:https://calendify.com/session/QnkOqjELMo0
LOCATION:D.community
SUMMARY:Mental health and free software
CLASS:PUBLIC
DESCRIPTION:https://calendify.com/session/QnkOqjELMo0
DTSTAMP:20260419T182505Z
CREATED:20210111T170319Z
LAST-MODIFIED:20210208T224803Z
END:VEVENT
END:VCALENDAR