BEGIN:VCALENDAR
VERSION:2.0
PRODID:calendify.com
BEGIN:VEVENT
UID:calendify-session-QnkOqjNLMo0
DTSTART:20210206T155500Z
SEQUENCE:0
TRANSP:OPAQUE
DTEND:20210206T163000Z
URL:https://calendify.com/session/QnkOqjNLMo0
LOCATION:D.testing
SUMMARY:Testing Visual Studio Code extensions
CLASS:PUBLIC
DESCRIPTION:https://calendify.com/session/QnkOqjNLMo0
DTSTAMP:20260419T212507Z
CREATED:20210111T170319Z
LAST-MODIFIED:20210208T224803Z
END:VEVENT
END:VCALENDAR