BEGIN:VCALENDAR
VERSION:2.0
PRODID:calendify.com
BEGIN:VEVENT
UID:calendify-session-QnkOqjj5Mo0
DTSTART:20210206T123000Z
SEQUENCE:0
TRANSP:OPAQUE
DTEND:20210206T125500Z
URL:https://calendify.com/session/QnkOqjj5Mo0
LOCATION:D.firmware
SUMMARY:Open Source Firmware status on AMD platforms 2021
CLASS:PUBLIC
DESCRIPTION:https://calendify.com/session/QnkOqjj5Mo0
DTSTAMP:20260422T142300Z
CREATED:20210111T170318Z
LAST-MODIFIED:20210208T224802Z
END:VEVENT
END:VCALENDAR