BEGIN:VCALENDAR
VERSION:2.0
PRODID:calendify.com
BEGIN:VEVENT
UID:calendify-session-QnkOqjoAMo0
DTSTART:20210206T100000Z
SEQUENCE:0
TRANSP:OPAQUE
DTEND:20210206T103000Z
URL:https://calendify.com/session/QnkOqjoAMo0
LOCATION:D.sds
SUMMARY:Benchmarking S3 in Ceph with COSBench
CLASS:PUBLIC
DESCRIPTION:https://calendify.com/session/QnkOqjoAMo0
DTSTAMP:20260419T212153Z
CREATED:20210201T190823Z
LAST-MODIFIED:20210208T224803Z
END:VEVENT
END:VCALENDAR