BEGIN:VCALENDAR
VERSION:2.0
PRODID:calendify.com
BEGIN:VEVENT
UID:calendify-session-QnkOqjrnMo0
DTSTART:20210207T110000Z
SEQUENCE:0
TRANSP:OPAQUE
DTEND:20210207T113000Z
URL:https://calendify.com/session/QnkOqjrnMo0
LOCATION:D.hpc
SUMMARY:GPU Computing Made Simple with the C++ Vulkan SDK & the C++ Kompute
  Framework (AMD\, Qualcomm\, NVIDIA & Friends)
CLASS:PUBLIC
DESCRIPTION:https://calendify.com/session/QnkOqjrnMo0
DTSTAMP:20260420T183221Z
CREATED:20210111T170320Z
LAST-MODIFIED:20210208T224804Z
END:VEVENT
END:VCALENDAR