BEGIN:VCALENDAR
VERSION:2.0
PRODID:calendify.com
BEGIN:VEVENT
UID:calendify-session-QnkOqkebgo0
DTSTART:20221229T190000Z
SEQUENCE:0
TRANSP:OPAQUE
DTEND:20221229T210000Z
URL:https://calendify.com/session/QnkOqkebgo0
LOCATION:Rave Cave
SUMMARY:chaotic symphony - an audiovisual space trip
CLASS:PUBLIC
DESCRIPTION:https://calendify.com/session/QnkOqkebgo0
DTSTAMP:20260420T122421Z
CREATED:20221221T105639Z
LAST-MODIFIED:20221230T225006Z
END:VEVENT
END:VCALENDAR