BEGIN:VCALENDAR
VERSION:2.0
PRODID:calendify.com
BEGIN:VEVENT
UID:calendify-session-QnkOqr8xMo0
DTSTART:20260201T083000Z
SEQUENCE:0
TRANSP:OPAQUE
DTEND:20260201T085500Z
URL:https://calendify.com/session/QnkOqr8xMo0
LOCATION:UD2.120 (Chavanne)
SUMMARY:From C to Rust on the ESP32: A Developer’s Journey into no_std
CLASS:PUBLIC
DESCRIPTION:https://calendify.com/session/QnkOqr8xMo0
DTSTAMP:20260424T101240Z
CREATED:20260131T063322Z
LAST-MODIFIED:20260201T163232Z
END:VEVENT
END:VCALENDAR