BEGIN:VCALENDAR
VERSION:2.0
PRODID:calendify.com
BEGIN:VEVENT
UID:calendify-session-RXEMX08DMKy
DTSTART:20181227T131000Z
SEQUENCE:0
TRANSP:OPAQUE
DTEND:20181227T141000Z
URL:https://calendify.com/session/RXEMX08DMKy
LOCATION:Borg
SUMMARY:Censored Planet: a Global Censorship Observatory 
CLASS:PUBLIC
DESCRIPTION:https://calendify.com/session/RXEMX08DMKy
DTSTAMP:20260420T123320Z
CREATED:20200509T021759Z
LAST-MODIFIED:20200512T221856Z
END:VEVENT
END:VCALENDAR