BEGIN:VCALENDAR
VERSION:2.0
PRODID:calendify.com
BEGIN:VEVENT
UID:calendify-session-RXEMX0B1MKy
DTSTART:20180511T153000Z
SEQUENCE:0
TRANSP:OPAQUE
DTEND:20180511T183000Z
URL:https://calendify.com/session/RXEMX0B1MKy
LOCATION:HfG_Workshoproom
SUMMARY:How to ... conflict
CLASS:PUBLIC
DESCRIPTION:https://calendify.com/session/RXEMX0B1MKy
DTSTAMP:20260422T014657Z
CREATED:20200513T011828Z
LAST-MODIFIED:20200513T011828Z
END:VEVENT
END:VCALENDAR