BEGIN:VCALENDAR
VERSION:2.0
PRODID:calendify.com
BEGIN:VEVENT
UID:calendify-session-RXEMX0NPMKy
DTSTART:20200201T113000Z
SEQUENCE:0
TRANSP:OPAQUE
DTEND:20200201T115500Z
URL:https://calendify.com/session/RXEMX0NPMKy
LOCATION:UB2.252A (Lameere)
SUMMARY:Will somebody *please* tell me what's going on?
CLASS:PUBLIC
DESCRIPTION:https://calendify.com/session/RXEMX0NPMKy
DTSTAMP:20260422T201655Z
CREATED:20200513T234730Z
LAST-MODIFIED:20210426T093308Z
END:VEVENT
END:VCALENDAR