BEGIN:VCALENDAR
VERSION:2.0
PRODID:calendify.com
BEGIN:VEVENT
UID:calendify-session-RXEMX0XDMKy
DTSTART:20200202T150000Z
SEQUENCE:0
TRANSP:OPAQUE
DTEND:20200202T155000Z
URL:https://calendify.com/session/RXEMX0XDMKy
LOCATION:H.2214
SUMMARY:RTFM
CLASS:PUBLIC
DESCRIPTION:https://calendify.com/session/RXEMX0XDMKy
DTSTAMP:20260424T002700Z
CREATED:20200513T234734Z
LAST-MODIFIED:20210426T093310Z
END:VEVENT
END:VCALENDAR